BEGIN:VCALENDAR
VERSION:2.0
PRODID:-//Cornerstone Ministries - ECPv4.6.22.1//NONSGML v1.0//EN
CALSCALE:GREGORIAN
METHOD:PUBLISH
X-WR-CALNAME:Cornerstone Ministries
X-ORIGINAL-URL:https://cornerstoneministries.ca
X-WR-CALDESC:Events for Cornerstone Ministries
BEGIN:VEVENT
DTSTART;VALUE=DATE:20230222
DTEND;VALUE=DATE:20230224
DTSTAMP:20260420T143518
CREATED:20221205T173643Z
LAST-MODIFIED:20230128T231803Z
UID:5786-1677024000-1677196799@cornerstoneministries.ca
SUMMARY:Piano Festival
DESCRIPTION:
URL:https://cornerstoneministries.ca/event/piano-festival-3/
CATEGORIES:Community Events
END:VEVENT
END:VCALENDAR