BEGIN:VCALENDAR
VERSION:2.0
PRODID:-//Cornerstone Ministries - ECPv4.6.22.1//NONSGML v1.0//EN
CALSCALE:GREGORIAN
METHOD:PUBLISH
X-WR-CALNAME:Cornerstone Ministries
X-ORIGINAL-URL:https://cornerstoneministries.ca
X-WR-CALDESC:Events for Cornerstone Ministries
BEGIN:VEVENT
DTSTART;TZID=America/Winnipeg:20260319T103000
DTEND;TZID=America/Winnipeg:20260319T120000
DTSTAMP:20260422T164648
CREATED:20260107T174128Z
LAST-MODIFIED:20260107T174128Z
UID:8490-1773916200-1773921600@cornerstoneministries.ca
SUMMARY:Mom's Group
DESCRIPTION:
URL:https://cornerstoneministries.ca/event/moms-group-36/
LOCATION:Cornerstone Ministries\, 131 new hope drive\, Crystal City\, manitoba\, r0k 0n0\, Canada
CATEGORIES:Kid's Ministries
END:VEVENT
END:VCALENDAR