BEGIN:VCALENDAR
VERSION:2.0
PRODID:-//Cornerstone Ministries - ECPv4.6.22.1//NONSGML v1.0//EN
CALSCALE:GREGORIAN
METHOD:PUBLISH
X-WR-CALNAME:Cornerstone Ministries
X-ORIGINAL-URL:https://cornerstoneministries.ca
X-WR-CALDESC:Events for Cornerstone Ministries
BEGIN:VEVENT
DTSTART;VALUE=DATE:20220326
DTEND;VALUE=DATE:20220403
DTSTAMP:20260424T154540
CREATED:20220320T025045Z
LAST-MODIFIED:20220320T025045Z
UID:4698-1648252800-1648943999@cornerstoneministries.ca
SUMMARY:Missions Trip to Calgary
DESCRIPTION:Please pray for our Senior Youth Group and their leaders as they head to Calgary this Spring Break to work with The Mustard Seed.  They are leaving on March 26 and will be back on April 2. \n  \nErica Banman \nCalli Banman \nEmma Friesen \nHannah Friesen \nDakota Harms \nLevi Pauls \nEmily Pauls \nSusana Klassen \nDonny Kimball \nBrady Kimball \nAudrey Sawatzky \nMatt Siemens \nNathan Lepp \nNatasha Lepp \nAshley Morrow \nRiley Kimball \nCarly Waldal \nAbby Waldal \nJC Pretorius \nKarissa Hein \nKeenan Hiebert \n  \nLeaders \nScott & Courtney Reimer \nDavid & Judi Heide \nHeather Friesen \nKrina Johnston \n
URL:https://cornerstoneministries.ca/event/missions-trip-to-calgary/
CATEGORIES:SR Youth
END:VEVENT
END:VCALENDAR