BEGIN:VCALENDAR
VERSION:2.0
PRODID:-//Cornerstone Ministries - ECPv4.6.22.1//NONSGML v1.0//EN
CALSCALE:GREGORIAN
METHOD:PUBLISH
X-WR-CALNAME:Cornerstone Ministries
X-ORIGINAL-URL:https://cornerstoneministries.ca
X-WR-CALDESC:Events for Cornerstone Ministries
BEGIN:VEVENT
DTSTART;VALUE=DATE:20211116
DTEND;VALUE=DATE:20211124
DTSTAMP:20260425T125646
CREATED:20211023T035347Z
LAST-MODIFIED:20211031T041100Z
UID:2658-1637020800-1637711999@cornerstoneministries.ca
SUMMARY:Mexico Missions Trip
DESCRIPTION:
URL:https://cornerstoneministries.ca/event/mexico-missions-trip/
CATEGORIES:Special Events
END:VEVENT
END:VCALENDAR