BEGIN:VCALENDAR
VERSION:2.0
PRODID:-//Cornerstone Ministries - ECPv4.6.22.1//NONSGML v1.0//EN
CALSCALE:GREGORIAN
METHOD:PUBLISH
X-WR-CALNAME:Cornerstone Ministries
X-ORIGINAL-URL:https://cornerstoneministries.ca
X-WR-CALDESC:Events for Cornerstone Ministries
BEGIN:VEVENT
DTSTART;VALUE=DATE:20230322
DTEND;VALUE=DATE:20230402
DTSTAMP:20260421T002146
CREATED:20230225T193249Z
LAST-MODIFIED:20230308T195356Z
UID:5984-1679443200-1680393599@cornerstoneministries.ca
SUMMARY:Mexico Missions Trip
DESCRIPTION:
URL:https://cornerstoneministries.ca/event/mexico-missions-trip-2/
CATEGORIES:SR Youth
END:VEVENT
END:VCALENDAR