BEGIN:VCALENDAR
VERSION:2.0
PRODID:-//Cornerstone Ministries - ECPv4.6.22.1//NONSGML v1.0//EN
CALSCALE:GREGORIAN
METHOD:PUBLISH
X-WR-CALNAME:Cornerstone Ministries
X-ORIGINAL-URL:https://cornerstoneministries.ca
X-WR-CALDESC:Events for Cornerstone Ministries
BEGIN:VEVENT
DTSTART;TZID=America/Winnipeg:20210919T200000
DTEND;TZID=America/Winnipeg:20210919T230000
DTSTAMP:20260425T223311
CREATED:20210918T145905Z
LAST-MODIFIED:20210918T145905Z
UID:2568-1632081600-1632092400@cornerstoneministries.ca
SUMMARY:Men's Campfire
DESCRIPTION:Campfire for all men at Vern Reimer’s place TONIGHT at 8:00 pm. Bring a lawn chair. \n
URL:https://cornerstoneministries.ca/event/mens-campfire/
LOCATION:Vern & Cindy Reimer’s House
CATEGORIES:Mens Ministries
END:VEVENT
END:VCALENDAR