BEGIN:VCALENDAR
VERSION:2.0
PRODID:-//Cornerstone Ministries - ECPv4.6.22.1//NONSGML v1.0//EN
CALSCALE:GREGORIAN
METHOD:PUBLISH
X-WR-CALNAME:Cornerstone Ministries
X-ORIGINAL-URL:https://cornerstoneministries.ca
X-WR-CALDESC:Events for Cornerstone Ministries
BEGIN:VEVENT
DTSTART;TZID=America/Winnipeg:20221126T080000
DTEND;TZID=America/Winnipeg:20221126T110000
DTSTAMP:20260421T032748
CREATED:20220917T234054Z
LAST-MODIFIED:20220917T234054Z
UID:5652-1669449600-1669460400@cornerstoneministries.ca
SUMMARY:Men's Breakfast
DESCRIPTION:
URL:https://cornerstoneministries.ca/event/mens-breakfast-3/
LOCATION:Cornerstone Ministries\, 131 new hope drive\, Crystal City\, manitoba\, r0k 0n0\, Canada
CATEGORIES:Mens Ministries
END:VEVENT
END:VCALENDAR