BEGIN:VCALENDAR
VERSION:2.0
PRODID:-//Cornerstone Ministries - ECPv4.6.22.1//NONSGML v1.0//EN
CALSCALE:GREGORIAN
METHOD:PUBLISH
X-WR-CALNAME:Cornerstone Ministries
X-ORIGINAL-URL:https://cornerstoneministries.ca
X-WR-CALDESC:Events for Cornerstone Ministries
BEGIN:VEVENT
DTSTART;TZID=America/Winnipeg:20211001T193000
DTEND;TZID=America/Winnipeg:20211001T230000
DTSTAMP:20260425T205929
CREATED:20210911T151636Z
LAST-MODIFIED:20210911T151636Z
UID:2548-1633116600-1633129200@cornerstoneministries.ca
SUMMARY:Menno Run
DESCRIPTION:A Sr & Jr Youth Menno Run will be held on Friday\, October 1st at Josh & Rebecca Pauls’ house.  Meet at the church at 7:30 PM or 7:45 PM at Josh & Rebecca’s.  Invite your friends!  We’ll be back at the church at 11PM. \n
URL:https://cornerstoneministries.ca/event/menno-run-5/
LOCATION:Josh & Rebecca Pauls’ House
CATEGORIES:JR Youth
END:VEVENT
END:VCALENDAR