BEGIN:VCALENDAR
VERSION:2.0
PRODID:-//Cornerstone Ministries - ECPv4.6.22.1//NONSGML v1.0//EN
CALSCALE:GREGORIAN
METHOD:PUBLISH
X-WR-CALNAME:Cornerstone Ministries
X-ORIGINAL-URL:https://cornerstoneministries.ca
X-WR-CALDESC:Events for Cornerstone Ministries
BEGIN:VEVENT
DTSTART;TZID=America/Winnipeg:20230903T140000
DTEND;TZID=America/Winnipeg:20230903T170000
DTSTAMP:20260419T181507
CREATED:20230826T204219Z
LAST-MODIFIED:20230826T204219Z
UID:6202-1693749600-1693760400@cornerstoneministries.ca
SUMMARY:Louise Grain Growing Project Harvest
DESCRIPTION:The Louise Grain Growing Project is putting on a harvest on Sunday\, September 3 at 2:00pm.  It is located 1 mile east of Mather on highway #3 and then 3.5 miles south.  We are harvesting 40 acres of wheat and will supply drinks and snacks.  We look forward to seeing you!         \n
URL:https://cornerstoneministries.ca/event/louise-grain-growing-project-harvest/
CATEGORIES:Community Events
END:VEVENT
END:VCALENDAR