BEGIN:VCALENDAR
VERSION:2.0
PRODID:-//Cornerstone Ministries - ECPv4.6.22.1//NONSGML v1.0//EN
CALSCALE:GREGORIAN
METHOD:PUBLISH
X-WR-CALNAME:Cornerstone Ministries
X-ORIGINAL-URL:https://cornerstoneministries.ca
X-WR-CALDESC:Events for Cornerstone Ministries
BEGIN:VEVENT
DTSTART;TZID=America/Winnipeg:20210905T140000
DTEND;TZID=America/Winnipeg:20210905T170000
DTSTAMP:20260425T163317
CREATED:20210904T154235Z
LAST-MODIFIED:20210904T154235Z
UID:2532-1630850400-1630861200@cornerstoneministries.ca
SUMMARY:Louise Foodgrains Growing Project
DESCRIPTION:You are invited to attend the annual harvest TODAY at 2:00 pm.  The location is 7 miles south and 1/2 mile west of Crystal City on Road 3N.  Drinks and snacks will be provided. \n
URL:https://cornerstoneministries.ca/event/louise-foodgrains-growing-project/
CATEGORIES:Community Events
END:VEVENT
END:VCALENDAR