BEGIN:VCALENDAR
VERSION:2.0
PRODID:-//Cornerstone Ministries - ECPv4.6.22.1//NONSGML v1.0//EN
CALSCALE:GREGORIAN
METHOD:PUBLISH
X-WR-CALNAME:Cornerstone Ministries
X-ORIGINAL-URL:https://cornerstoneministries.ca
X-WR-CALDESC:Events for Cornerstone Ministries
BEGIN:VEVENT
DTSTART;TZID=America/Winnipeg:20220430T140000
DTEND;TZID=America/Winnipeg:20220430T170000
DTSTAMP:20260424T070250
CREATED:20220409T220021Z
LAST-MODIFIED:20220409T220021Z
UID:4942-1651327200-1651338000@cornerstoneministries.ca
SUMMARY:Ladies' Spring Tea
DESCRIPTION:Calling all ladies!!  Spring Tea on April 30th at Cornerstone.  Come for a time of sharing and fellowship! \n
URL:https://cornerstoneministries.ca/event/ladies-spring-tea/
LOCATION:Cornerstone Ministries\, 131 new hope drive\, Crystal City\, manitoba\, r0k 0n0\, Canada
CATEGORIES:Womens Ministries
END:VEVENT
END:VCALENDAR