BEGIN:VCALENDAR
VERSION:2.0
PRODID:-//Cornerstone Ministries - ECPv4.6.22.1//NONSGML v1.0//EN
CALSCALE:GREGORIAN
METHOD:PUBLISH
X-WR-CALNAME:Cornerstone Ministries
X-ORIGINAL-URL:https://cornerstoneministries.ca
X-WR-CALDESC:Events for Cornerstone Ministries
BEGIN:VEVENT
DTSTART;TZID=America/Winnipeg:20221026T133000
DTEND;TZID=America/Winnipeg:20221026T170000
DTSTAMP:20260421T075353
CREATED:20221022T205335Z
LAST-MODIFIED:20221022T205335Z
UID:5697-1666791000-1666803600@cornerstoneministries.ca
SUMMARY:Ladies' Simply Bible Study - Colossians
DESCRIPTION:Pick up a book available at the back and join us for Chapter 2 on Wednesday\, October 26th at either 1:30pm or 7:30pm.  Everyone welcome! \n
URL:https://cornerstoneministries.ca/event/ladies-simply-bible-study-colossians/
LOCATION:Cornerstone Ministries\, 131 new hope drive\, Crystal City\, manitoba\, r0k 0n0\, Canada
CATEGORIES:Womens Ministries
END:VEVENT
END:VCALENDAR