BEGIN:VCALENDAR
VERSION:2.0
PRODID:-//Cornerstone Ministries - ECPv4.6.22.1//NONSGML v1.0//EN
CALSCALE:GREGORIAN
METHOD:PUBLISH
X-WR-CALNAME:Cornerstone Ministries
X-ORIGINAL-URL:https://cornerstoneministries.ca
X-WR-CALDESC:Events for Cornerstone Ministries
BEGIN:VEVENT
DTSTART;VALUE=DATE:20211126
DTEND;VALUE=DATE:20211128
DTSTAMP:20260425T125152
CREATED:20211023T034133Z
LAST-MODIFIED:20211029T033614Z
UID:2630-1637884800-1638057599@cornerstoneministries.ca
SUMMARY:Ladies Retreat
DESCRIPTION:Friday\, Nov 26 – Saturday\, Nov 27  at Rock Lake Ministries. Speaker is Svea Braun.  Theme: Matthew 11:28-30. \n$85 Early Bird Rate\, $100 after November 7\, Sponsorships available\nContact us: Helen: (204) 825-7803\, helenwall7@gmail.com  \nor Nikki: (204) 794-1424\, nikkibanman@gmail.com  \nRegistration sheet available here:  https://forms.gle/T9XhfQN8s5378DDB8 \n
URL:https://cornerstoneministries.ca/event/ladies-retreat/
LOCATION:Rock Lake Ministries
CATEGORIES:Womens Ministries
END:VEVENT
END:VCALENDAR