BEGIN:VCALENDAR
VERSION:2.0
PRODID:-//Cornerstone Ministries - ECPv4.6.22.1//NONSGML v1.0//EN
CALSCALE:GREGORIAN
METHOD:PUBLISH
X-WR-CALNAME:Cornerstone Ministries
X-ORIGINAL-URL:https://cornerstoneministries.ca
X-WR-CALDESC:Events for Cornerstone Ministries
BEGIN:VEVENT
DTSTART;TZID=America/Winnipeg:20230504T190000
DTEND;TZID=America/Winnipeg:20230504T210000
DTSTAMP:20260420T053858
CREATED:20230331T190221Z
LAST-MODIFIED:20230422T151844Z
UID:6068-1683226800-1683234000@cornerstoneministries.ca
SUMMARY:Ladies' Event
DESCRIPTION:FaceTime!  Do you see ME?  Inviting all ladies to our event on April 20th at 7pm at Cornerstone Ministries Church.  Featuring a panel discussion on identity and connection\, an activity\, and of course food and fellowship!  Everyone is welcome!!  See you there!! \n
URL:https://cornerstoneministries.ca/event/ladies-event-2/
LOCATION:Cornerstone Ministries\, 131 new hope drive\, Crystal City\, manitoba\, r0k 0n0\, Canada
CATEGORIES:Womens Ministries
END:VEVENT
END:VCALENDAR