BEGIN:VCALENDAR
VERSION:2.0
PRODID:-//Cornerstone Ministries - ECPv4.6.22.1//NONSGML v1.0//EN
CALSCALE:GREGORIAN
METHOD:PUBLISH
X-WR-CALNAME:Cornerstone Ministries
X-ORIGINAL-URL:https://cornerstoneministries.ca
X-WR-CALDESC:Events for Cornerstone Ministries
BEGIN:VEVENT
DTSTART;TZID=America/Winnipeg:20221121T193000
DTEND;TZID=America/Winnipeg:20221121T213000
DTSTAMP:20260421T002206
CREATED:20221022T210531Z
LAST-MODIFIED:20221022T210531Z
UID:5729-1669059000-1669066200@cornerstoneministries.ca
SUMMARY:Ladies' Coffee House
DESCRIPTION:Featuring our local gifts\, talents\, and abilities to bless and encourage!  If you are willing to participate\, please sign up on the sheet at the back or the link on Cornerstone’s Facebook page.  Everyone welcome! \n
URL:https://cornerstoneministries.ca/event/ladies-coffee-house/
CATEGORIES:Womens Ministries
END:VEVENT
END:VCALENDAR