BEGIN:VCALENDAR
VERSION:2.0
PRODID:-//Cornerstone Ministries - ECPv4.6.22.1//NONSGML v1.0//EN
CALSCALE:GREGORIAN
METHOD:PUBLISH
X-WR-CALNAME:Cornerstone Ministries
X-ORIGINAL-URL:https://cornerstoneministries.ca
X-WR-CALDESC:Events for Cornerstone Ministries
BEGIN:VEVENT
DTSTART;TZID=America/Winnipeg:20210215T200000
DTEND;TZID=America/Winnipeg:20210215T220000
DTSTAMP:20260426T032929
CREATED:20210206T170614Z
LAST-MODIFIED:20210206T170614Z
UID:2196-1613419200-1613426400@cornerstoneministries.ca
SUMMARY:Ladies Bible Study
DESCRIPTION:Group 1 with Nikki Banman. \nMonday evenings at 8pm. \nEmotionally Healthy Woman. \n  \n
URL:https://cornerstoneministries.ca/event/ladies-bible-study/
CATEGORIES:Womens Ministries
END:VEVENT
END:VCALENDAR