BEGIN:VCALENDAR
VERSION:2.0
PRODID:-//Cornerstone Ministries - ECPv4.6.22.1//NONSGML v1.0//EN
CALSCALE:GREGORIAN
METHOD:PUBLISH
X-WR-CALNAME:Cornerstone Ministries
X-ORIGINAL-URL:https://cornerstoneministries.ca
X-WR-CALDESC:Events for Cornerstone Ministries
BEGIN:VEVENT
DTSTART;TZID=America/Winnipeg:20230426T133000
DTEND;TZID=America/Winnipeg:20230426T190000
DTSTAMP:20260422T085104
CREATED:20230415T031932Z
LAST-MODIFIED:20230415T031932Z
UID:6092-1682515800-1682535600@cornerstoneministries.ca
SUMMARY:Ladies' Bible Study
DESCRIPTION:Two studies starting January 18 running every 2 weeks for 7 sessions!  Everyone is welcome!!   “Find Your People” by Jennie Allen at 1:30pm.  Please order the study guide\, or contact Helen if you need one.   Simply Bible Study of Galatians will be at 7:30pm.  Please order a study guide. \n
URL:https://cornerstoneministries.ca/event/ladies-bible-study-18/
LOCATION:Cornerstone Ministries\, 131 new hope drive\, Crystal City\, manitoba\, r0k 0n0\, Canada
CATEGORIES:Womens Ministries
END:VEVENT
END:VCALENDAR