BEGIN:VCALENDAR
VERSION:2.0
PRODID:-//Cornerstone Ministries - ECPv4.6.22.1//NONSGML v1.0//EN
CALSCALE:GREGORIAN
METHOD:PUBLISH
X-WR-CALNAME:Cornerstone Ministries
X-ORIGINAL-URL:https://cornerstoneministries.ca
X-WR-CALDESC:Events for Cornerstone Ministries
BEGIN:VEVENT
DTSTART;TZID=America/Winnipeg:20230118T133000
DTEND;TZID=America/Winnipeg:20230118T153000
DTSTAMP:20260420T223703
CREATED:20230114T200823Z
LAST-MODIFIED:20230114T200823Z
UID:5862-1674048600-1674055800@cornerstoneministries.ca
SUMMARY:Ladies' Bible Study
DESCRIPTION:Two studies starting January 18 running every 2 weeks for 7 sessions!  Everyone is welcome!! \nThis week will be an introduction to the study\, so come even if you don’t have your book yet! \n\n“Find Your People” by Jennie Allen at 1:30pm.  Please order the study guide\, or contact Helen if you need one.  \nSimply Bible Study of Galatians will be at 7:30pm.  Please order a study guide. \n\n
URL:https://cornerstoneministries.ca/event/ladies-bible-study-11/
LOCATION:Cornerstone Ministries\, 131 new hope drive\, Crystal City\, manitoba\, r0k 0n0\, Canada
CATEGORIES:Womens Ministries
END:VEVENT
END:VCALENDAR