BEGIN:VCALENDAR
VERSION:2.0
PRODID:-//Cornerstone Ministries - ECPv4.6.22.1//NONSGML v1.0//EN
CALSCALE:GREGORIAN
METHOD:PUBLISH
X-WR-CALNAME:Cornerstone Ministries
X-ORIGINAL-URL:https://cornerstoneministries.ca
X-WR-CALDESC:Events for Cornerstone Ministries
BEGIN:VEVENT
DTSTART;TZID=America/Winnipeg:20231216T190000
DTEND;TZID=America/Winnipeg:20231216T210000
DTSTAMP:20260423T102652
CREATED:20231116T193749Z
LAST-MODIFIED:20231116T193749Z
UID:6408-1702753200-1702760400@cornerstoneministries.ca
SUMMARY:Junior Youth Christmas Party
DESCRIPTION:
URL:https://cornerstoneministries.ca/event/junior-youth-christmas-party/
CATEGORIES:JR Youth
END:VEVENT
END:VCALENDAR