BEGIN:VCALENDAR
VERSION:2.0
PRODID:-//Cornerstone Ministries - ECPv4.6.22.1//NONSGML v1.0//EN
CALSCALE:GREGORIAN
METHOD:PUBLISH
X-WR-CALNAME:Cornerstone Ministries
X-ORIGINAL-URL:https://cornerstoneministries.ca
X-WR-CALDESC:Events for Cornerstone Ministries
BEGIN:VEVENT
DTSTART;TZID=America/Winnipeg:20220302T163000
DTEND;TZID=America/Winnipeg:20220302T221500
DTSTAMP:20260424T192255
CREATED:20220225T164728Z
LAST-MODIFIED:20220225T164728Z
UID:4465-1646238600-1646259300@cornerstoneministries.ca
SUMMARY:Jr Youth Tobogganing
DESCRIPTION:We will be going to Valley View Bible Camp on Wednesday\, March 2nd with the Sr & Jr Youth.  Meet at the church at 4:30 and we will arrive back at the church at 10:15.  Please bring $15 and your own supper or eat before you come.  Some snacks will be provided.  Dress warm! \n
URL:https://cornerstoneministries.ca/event/jr-youth-tobogganing-2/
LOCATION:Valley View Bible Camp
CATEGORIES:JR Youth
END:VEVENT
END:VCALENDAR