BEGIN:VCALENDAR
VERSION:2.0
PRODID:-//Cornerstone Ministries - ECPv4.6.22.1//NONSGML v1.0//EN
CALSCALE:GREGORIAN
METHOD:PUBLISH
X-WR-CALNAME:Cornerstone Ministries
X-ORIGINAL-URL:https://cornerstoneministries.ca
X-WR-CALDESC:Events for Cornerstone Ministries
BEGIN:VEVENT
DTSTART;TZID=America/Winnipeg:20231122T190000
DTEND;TZID=America/Winnipeg:20231122T210000
DTSTAMP:20260422T063136
CREATED:20231028T220914Z
LAST-MODIFIED:20231028T220914Z
UID:6360-1700679600-1700686800@cornerstoneministries.ca
SUMMARY:Jr Youth Night
DESCRIPTION:
URL:https://cornerstoneministries.ca/event/jr-youth-night-81/
CATEGORIES:JR Youth
END:VEVENT
END:VCALENDAR