BEGIN:VCALENDAR
VERSION:2.0
PRODID:-//Cornerstone Ministries - ECPv4.6.22.1//NONSGML v1.0//EN
CALSCALE:GREGORIAN
METHOD:PUBLISH
X-WR-CALNAME:Cornerstone Ministries
X-ORIGINAL-URL:https://cornerstoneministries.ca
X-WR-CALDESC:Events for Cornerstone Ministries
BEGIN:VEVENT
DTSTART;TZID=America/Winnipeg:20230531T190000
DTEND;TZID=America/Winnipeg:20230531T210000
DTSTAMP:20260420T070403
CREATED:20230429T162805Z
LAST-MODIFIED:20230429T162805Z
UID:6119-1685559600-1685566800@cornerstoneministries.ca
SUMMARY:Jr Youth Night
DESCRIPTION:Anyone in grade 7-8 welcome to come down for a fun time of Bible study\, games\, and hanging out with friends \n
URL:https://cornerstoneministries.ca/event/jr-youth-night-75/
CATEGORIES:JR Youth
END:VEVENT
END:VCALENDAR