BEGIN:VCALENDAR
VERSION:2.0
PRODID:-//Cornerstone Ministries - ECPv4.6.22.1//NONSGML v1.0//EN
CALSCALE:GREGORIAN
METHOD:PUBLISH
X-WR-CALNAME:Cornerstone Ministries
X-ORIGINAL-URL:https://cornerstoneministries.ca
X-WR-CALDESC:Events for Cornerstone Ministries
BEGIN:VEVENT
DTSTART;TZID=America/Winnipeg:20230222T190000
DTEND;TZID=America/Winnipeg:20230222T210000
DTSTAMP:20260420T160449
CREATED:20230107T062820Z
LAST-MODIFIED:20230217T164228Z
UID:5852-1677092400-1677099600@cornerstoneministries.ca
SUMMARY:Jr Youth Movie Night
DESCRIPTION:Jr Youth are doing a movie night at Walter & Terri Smith’s on Wednesday.  Let Scott know if you need a ride from Crystal City. \n
URL:https://cornerstoneministries.ca/event/jr-youth-night-68/
LOCATION:Walter and Terri Smith
CATEGORIES:JR Youth
END:VEVENT
END:VCALENDAR