BEGIN:VCALENDAR
VERSION:2.0
PRODID:-//Cornerstone Ministries - ECPv4.6.22.1//NONSGML v1.0//EN
CALSCALE:GREGORIAN
METHOD:PUBLISH
X-WR-CALNAME:Cornerstone Ministries
X-ORIGINAL-URL:https://cornerstoneministries.ca
X-WR-CALDESC:Events for Cornerstone Ministries
BEGIN:VEVENT
DTSTART;TZID=America/Winnipeg:20221214T190000
DTEND;TZID=America/Winnipeg:20221214T210000
DTSTAMP:20260420T192740
CREATED:20221119T191440Z
LAST-MODIFIED:20221203T220843Z
UID:5762-1671044400-1671051600@cornerstoneministries.ca
SUMMARY:Jr Youth Night
DESCRIPTION:Anyone in grade 7-8 welcome to come down for a night of Bible study\, games\, and hanging out with friends \n
URL:https://cornerstoneministries.ca/event/jr-youth-night-64/
LOCATION:Cornerstone Ministries\, 131 new hope drive\, Crystal City\, manitoba\, r0k 0n0\, Canada
CATEGORIES:JR Youth
END:VEVENT
END:VCALENDAR