BEGIN:VCALENDAR
VERSION:2.0
PRODID:-//Cornerstone Ministries - ECPv4.6.22.1//NONSGML v1.0//EN
CALSCALE:GREGORIAN
METHOD:PUBLISH
X-WR-CALNAME:Cornerstone Ministries
X-ORIGINAL-URL:https://cornerstoneministries.ca
X-WR-CALDESC:Events for Cornerstone Ministries
BEGIN:VEVENT
DTSTART;TZID=America/Winnipeg:20220413T190000
DTEND;TZID=America/Winnipeg:20220413T210000
DTSTAMP:20260424T080713
CREATED:20220320T025818Z
LAST-MODIFIED:20220416T183850Z
UID:4704-1649876400-1649883600@cornerstoneministries.ca
SUMMARY:Jr Youth Night - Cancelled
DESCRIPTION:All grade 7-8s welcome to the church for a fun night of games\, hanging out & Bible study! \n
URL:https://cornerstoneministries.ca/event/jr-youth-night-52/
LOCATION:Cornerstone Ministries\, 131 new hope drive\, Crystal City\, manitoba\, r0k 0n0\, Canada
CATEGORIES:JR Youth
END:VEVENT
END:VCALENDAR