BEGIN:VCALENDAR
VERSION:2.0
PRODID:-//Cornerstone Ministries - ECPv4.6.22.1//NONSGML v1.0//EN
CALSCALE:GREGORIAN
METHOD:PUBLISH
X-WR-CALNAME:Cornerstone Ministries
X-ORIGINAL-URL:https://cornerstoneministries.ca
X-WR-CALDESC:Events for Cornerstone Ministries
BEGIN:VEVENT
DTSTART;TZID=America/Winnipeg:20230406T200000
DTEND;TZID=America/Winnipeg:20230406T220000
DTSTAMP:20260420T070403
CREATED:20230331T190414Z
LAST-MODIFIED:20230331T190414Z
UID:6070-1680811200-1680818400@cornerstoneministries.ca
SUMMARY:"Jesus Revolution" Movie
DESCRIPTION:There will be a FREE showing of the Jesus Revolution movie at the Tivoli Theatre in Pilot Mound on April 6 & 8 at 8pm.  If you are interested in financially supporting this venture in any way\, please talk to Jenna Friesen.  \n
URL:https://cornerstoneministries.ca/event/jesus-revolution-movie/
CATEGORIES:Community Events
END:VEVENT
END:VCALENDAR