BEGIN:VCALENDAR
VERSION:2.0
PRODID:-//Cornerstone Ministries - ECPv4.6.22.1//NONSGML v1.0//EN
CALSCALE:GREGORIAN
METHOD:PUBLISH
X-WR-CALNAME:Cornerstone Ministries
X-ORIGINAL-URL:https://cornerstoneministries.ca
X-WR-CALDESC:Events for Cornerstone Ministries
BEGIN:VEVENT
DTSTART;TZID=America/Winnipeg:20221108T080000
DTEND;TZID=America/Winnipeg:20221108T170000
DTSTAMP:20260421T043835
CREATED:20220904T040759Z
LAST-MODIFIED:20220904T040759Z
UID:5597-1667894400-1667926800@cornerstoneministries.ca
SUMMARY:Flu Clinic
DESCRIPTION:
URL:https://cornerstoneministries.ca/event/flu-clinic-4/
CATEGORIES:Community Events
END:VEVENT
END:VCALENDAR