BEGIN:VCALENDAR
VERSION:2.0
PRODID:-//Cornerstone Ministries - ECPv4.6.22.1//NONSGML v1.0//EN
CALSCALE:GREGORIAN
METHOD:PUBLISH
X-WR-CALNAME:Cornerstone Ministries
X-ORIGINAL-URL:https://cornerstoneministries.ca
X-WR-CALDESC:Events for Cornerstone Ministries
BEGIN:VEVENT
DTSTART;TZID=America/Winnipeg:20220417T090000
DTEND;TZID=America/Winnipeg:20220417T103000
DTSTAMP:20260424T102542
CREATED:20220403T023800Z
LAST-MODIFIED:20220403T023800Z
UID:4899-1650186000-1650191400@cornerstoneministries.ca
SUMMARY:Easter Breakfast
DESCRIPTION:Joyce Falk’s group is in charge.  Please sign up to bring food.  The sign up sheet is on the back table \n
URL:https://cornerstoneministries.ca/event/easter-breakfast/
LOCATION:Cornerstone Ministries\, 131 new hope drive\, Crystal City\, manitoba\, r0k 0n0\, Canada
CATEGORIES:Special Events
END:VEVENT
END:VCALENDAR