BEGIN:VCALENDAR
VERSION:2.0
PRODID:-//Cornerstone Ministries - ECPv4.6.22.1//NONSGML v1.0//EN
CALSCALE:GREGORIAN
METHOD:PUBLISH
X-WR-CALNAME:Cornerstone Ministries
X-ORIGINAL-URL:https://cornerstoneministries.ca
X-WR-CALDESC:Events for Cornerstone Ministries
BEGIN:VEVENT
DTSTART;TZID=America/Winnipeg:20221221T170000
DTEND;TZID=America/Winnipeg:20221221T220000
DTSTAMP:20260420T173827
CREATED:20221205T173133Z
LAST-MODIFIED:20221205T173133Z
UID:5782-1671642000-1671660000@cornerstoneministries.ca
SUMMARY:Early Years concert storm date
DESCRIPTION:Crystal City Early Years School concert storm date \n
URL:https://cornerstoneministries.ca/event/early-years-concert-storm-date/
CATEGORIES:Rentals
END:VEVENT
END:VCALENDAR