BEGIN:VCALENDAR
VERSION:2.0
PRODID:-//Cornerstone Ministries - ECPv4.6.22.1//NONSGML v1.0//EN
CALSCALE:GREGORIAN
METHOD:PUBLISH
X-WR-CALNAME:Cornerstone Ministries
X-ORIGINAL-URL:https://cornerstoneministries.ca
X-WR-CALDESC:Events for Cornerstone Ministries
BEGIN:VEVENT
DTSTART;TZID=America/Winnipeg:20210716T190000
DTEND;TZID=America/Winnipeg:20210716T210000
DTSTAMP:20260426T000736
CREATED:20210627T225338Z
LAST-MODIFIED:20210710T192205Z
UID:2462-1626462000-1626469200@cornerstoneministries.ca
SUMMARY:Come & Go Bridal Shower
DESCRIPTION:\n\n\n\nYou are invited to a come & go shower on Friday\, July 16 from 7-9 pm at Cornerstone for Cassandra Lewco\, bride-elect of Matthew Hein. Cassandra is registered atmyregistry.com. \n\n\n\n\n
URL:https://cornerstoneministries.ca/event/drive-by-bridal-shower/
CATEGORIES:Special Events
END:VEVENT
END:VCALENDAR