BEGIN:VCALENDAR
VERSION:2.0
PRODID:-//Cornerstone Ministries - ECPv4.6.22.1//NONSGML v1.0//EN
CALSCALE:GREGORIAN
METHOD:PUBLISH
X-WR-CALNAME:Cornerstone Ministries
X-ORIGINAL-URL:https://cornerstoneministries.ca
X-WR-CALDESC:Events for Cornerstone Ministries
BEGIN:VEVENT
DTSTART;VALUE=DATE:20230312
DTEND;VALUE=DATE:20230313
DTSTAMP:20260420T223714
CREATED:20230225T192445Z
LAST-MODIFIED:20230312T020028Z
UID:5968-1678579200-1678665599@cornerstoneministries.ca
SUMMARY:Curling Bonspiel
DESCRIPTION:Sign up your team at the back of the church!  The Sr Youth will be putting on this event as a fundraiser for the missions trip. \n
URL:https://cornerstoneministries.ca/event/curling-bonspiel-4/
LOCATION:Clearwater Curling Rink
CATEGORIES:Special Events
END:VEVENT
END:VCALENDAR