BEGIN:VCALENDAR
VERSION:2.0
PRODID:-//Cornerstone Ministries - ECPv4.6.22.1//NONSGML v1.0//EN
CALSCALE:GREGORIAN
METHOD:PUBLISH
X-WR-CALNAME:Cornerstone Ministries
X-ORIGINAL-URL:https://cornerstoneministries.ca
X-WR-CALDESC:Events for Cornerstone Ministries
BEGIN:VEVENT
DTSTART;TZID=America/Winnipeg:20221203T190000
DTEND;TZID=America/Winnipeg:20221203T210000
DTSTAMP:20260420T145924
CREATED:20221119T190447Z
LAST-MODIFIED:20221119T190447Z
UID:5742-1670094000-1670101200@cornerstoneministries.ca
SUMMARY:Cornerstone Christmas Party
DESCRIPTION:Cornerstone’s Christmas Party will be on December 3rd from 7:00-9:00pm at the church. \n-Hay Rides & Bonfire \n-Hot Chocolate Bar \n-Photo Booth \n-Movie for kids \n-Games \n-Fellowship \nPlease bring 1 plate of dainties or other snacks and crokinole boards or other board games \nFeel free to invite your friends!! \n
URL:https://cornerstoneministries.ca/event/cornerstone-christmas-party/
LOCATION:Cornerstone Ministries\, 131 new hope drive\, Crystal City\, manitoba\, r0k 0n0\, Canada
CATEGORIES:Special Events
END:VEVENT
END:VCALENDAR