BEGIN:VCALENDAR
VERSION:2.0
PRODID:-//Cornerstone Ministries - ECPv4.6.22.1//NONSGML v1.0//EN
CALSCALE:GREGORIAN
METHOD:PUBLISH
X-WR-CALNAME:Cornerstone Ministries
X-ORIGINAL-URL:https://cornerstoneministries.ca
X-WR-CALDESC:Events for Cornerstone Ministries
BEGIN:VEVENT
DTSTART;TZID=America/Winnipeg:20231202T183000
DTEND;TZID=America/Winnipeg:20231202T213000
DTSTAMP:20260423T100741
CREATED:20231105T042024Z
LAST-MODIFIED:20231105T042024Z
UID:6392-1701541800-1701552600@cornerstoneministries.ca
SUMMARY:Cornerstone Christmas Party
DESCRIPTION:
URL:https://cornerstoneministries.ca/event/cornerstone-christmas-party-2/
CATEGORIES:Special Events
END:VEVENT
END:VCALENDAR