BEGIN:VCALENDAR
VERSION:2.0
PRODID:-//Cornerstone Ministries - ECPv4.6.22.1//NONSGML v1.0//EN
CALSCALE:GREGORIAN
METHOD:PUBLISH
X-WR-CALNAME:Cornerstone Ministries
X-ORIGINAL-URL:https://cornerstoneministries.ca
X-WR-CALDESC:Events for Cornerstone Ministries
BEGIN:VEVENT
DTSTART;VALUE=DATE:20230505
DTEND;VALUE=DATE:20230507
DTSTAMP:20260420T065641
CREATED:20230429T162909Z
LAST-MODIFIED:20230429T162909Z
UID:6121-1683244800-1683417599@cornerstoneministries.ca
SUMMARY:"Collide" Young Adults Conference
DESCRIPTION:Cost will be $85 for the conference plus you will need money for hotel/meals.  Please let Andy know if you can make it.  More information at collideconference.ca.  \n
URL:https://cornerstoneministries.ca/event/collide-young-adults-conference/
CATEGORIES:Young Adults
END:VEVENT
END:VCALENDAR