BEGIN:VCALENDAR
VERSION:2.0
PRODID:-//Cornerstone Ministries - ECPv4.6.22.1//NONSGML v1.0//EN
CALSCALE:GREGORIAN
METHOD:PUBLISH
X-WR-CALNAME:Cornerstone Ministries
X-ORIGINAL-URL:https://cornerstoneministries.ca
X-WR-CALDESC:Events for Cornerstone Ministries
BEGIN:VEVENT
DTSTART;TZID=America/Winnipeg:20220130T120000
DTEND;TZID=America/Winnipeg:20220130T160000
DTSTAMP:20260425T043251
CREATED:20220129T045948Z
LAST-MODIFIED:20220129T045948Z
UID:4198-1643544000-1643558400@cornerstoneministries.ca
SUMMARY:College & Career Lunch and Skating
DESCRIPTION:Lunch right after church and skating on the creek (weather permitting).  Text Lorna (204-825-4318) if it works for you so we can plan food. \n
URL:https://cornerstoneministries.ca/event/college-career-lunch-and-skating/
CATEGORIES:Young Adults
END:VEVENT
END:VCALENDAR