BEGIN:VCALENDAR
VERSION:2.0
PRODID:-//Cornerstone Ministries - ECPv4.6.22.1//NONSGML v1.0//EN
CALSCALE:GREGORIAN
METHOD:PUBLISH
X-WR-CALNAME:Cornerstone Ministries
X-ORIGINAL-URL:https://cornerstoneministries.ca
X-WR-CALDESC:Events for Cornerstone Ministries
BEGIN:VEVENT
DTSTART;TZID=America/Winnipeg:20230406T190000
DTEND;TZID=America/Winnipeg:20230406T210000
DTSTAMP:20260422T085647
CREATED:20230331T190820Z
LAST-MODIFIED:20230331T190820Z
UID:6074-1680807600-1680814800@cornerstoneministries.ca
SUMMARY:College & Career Girls Night
DESCRIPTION:Talk to Clar or Lorna if you have questions \n
URL:https://cornerstoneministries.ca/event/college-career-girls-night/
LOCATION:John & Lorna Neufelds
CATEGORIES:Young Adults
END:VEVENT
END:VCALENDAR