BEGIN:VCALENDAR
VERSION:2.0
PRODID:-//Cornerstone Ministries - ECPv4.6.22.1//NONSGML v1.0//EN
CALSCALE:GREGORIAN
METHOD:PUBLISH
X-WR-CALNAME:Cornerstone Ministries
X-ORIGINAL-URL:https://cornerstoneministries.ca
X-WR-CALDESC:Events for Cornerstone Ministries
BEGIN:VEVENT
DTSTART;TZID=America/Winnipeg:20220425T090000
DTEND;TZID=America/Winnipeg:20220425T150000
DTSTAMP:20260424T093847
CREATED:20220403T023641Z
LAST-MODIFIED:20220409T220119Z
UID:4897-1650877200-1650898800@cornerstoneministries.ca
SUMMARY:Church Spring Cleaning
DESCRIPTION:Talk to Clarissa if you have any questions. \n
URL:https://cornerstoneministries.ca/event/church-spring-cleaning-2/
LOCATION:Cornerstone Ministries\, 131 new hope drive\, Crystal City\, manitoba\, r0k 0n0\, Canada
CATEGORIES:Special Events
END:VEVENT
END:VCALENDAR