BEGIN:VCALENDAR
VERSION:2.0
PRODID:-//Cornerstone Ministries - ECPv4.6.22.1//NONSGML v1.0//EN
CALSCALE:GREGORIAN
METHOD:PUBLISH
X-WR-CALNAME:Cornerstone Ministries
X-ORIGINAL-URL:https://cornerstoneministries.ca
X-WR-CALDESC:Events for Cornerstone Ministries
BEGIN:VEVENT
DTSTART;TZID=America/Winnipeg:20211017T193000
DTEND;TZID=America/Winnipeg:20211017T213000
DTSTAMP:20260425T160130
CREATED:20211002T160136Z
LAST-MODIFIED:20211002T160136Z
UID:2610-1634499000-1634506200@cornerstoneministries.ca
SUMMARY:Church Prayer Meeting
DESCRIPTION:
URL:https://cornerstoneministries.ca/event/church-prayer-meeting/
LOCATION:Cornerstone Ministries\, 131 new hope drive\, Crystal City\, manitoba\, r0k 0n0\, Canada
CATEGORIES:Prayer
END:VEVENT
END:VCALENDAR