BEGIN:VCALENDAR
VERSION:2.0
PRODID:-//Cornerstone Ministries - ECPv4.6.22.1//NONSGML v1.0//EN
CALSCALE:GREGORIAN
METHOD:PUBLISH
X-WR-CALNAME:Cornerstone Ministries
X-ORIGINAL-URL:https://cornerstoneministries.ca
X-WR-CALDESC:Events for Cornerstone Ministries
BEGIN:VEVENT
DTSTART;TZID=America/Winnipeg:20230827T100000
DTEND;TZID=America/Winnipeg:20230827T150000
DTSTAMP:20260419T225229
CREATED:20230826T201842Z
LAST-MODIFIED:20230826T201842Z
UID:6188-1693130400-1693148400@cornerstoneministries.ca
SUMMARY:Church Picnic
DESCRIPTION:CHURCH PICNIC!! \nWorship Service @ 10:00 am at Derek & Jenna Friesen’s yard \nMessage by Pastor Jeff – “A Harvest Story” \nBad weather location will be at church.  Bring a lawn chair.  Lunch following the service will be pork on a bun. Dana & Judi’s serving group is in charge.  Everyone is asked to bring plates and cutlery for your family\, and salads\, desserts and drinks.  There will be some dishes available if anyone needs them.  Please have salads and desserts in dishes with lids to help keep flies off the food.  If you have any questions\, please contact Dana or Judi.  We are looking forward to a great day of fellowship and hope to see you all there! \n
URL:https://cornerstoneministries.ca/event/church-picnic-6/
LOCATION:Derek & Jenna Friesens house\, Crystal City
CATEGORIES:Worship Service
END:VEVENT
END:VCALENDAR