BEGIN:VCALENDAR
VERSION:2.0
PRODID:-//Cornerstone Ministries - ECPv4.6.22.1//NONSGML v1.0//EN
CALSCALE:GREGORIAN
METHOD:PUBLISH
X-WR-CALNAME:Cornerstone Ministries
X-ORIGINAL-URL:https://cornerstoneministries.ca
X-WR-CALDESC:Events for Cornerstone Ministries
BEGIN:VEVENT
DTSTART;TZID=America/Winnipeg:20210829T103000
DTEND;TZID=America/Winnipeg:20210829T160000
DTSTAMP:20260425T193439
CREATED:20210806T044704Z
LAST-MODIFIED:20210806T044704Z
UID:2510-1630233000-1630252800@cornerstoneministries.ca
SUMMARY:Church Picnic
DESCRIPTION:This year’s picnic will again be at Derek & Jenna Friesen’s on Sunday\, August 29th. The service will be at 10:30 am at the Friesen’s\, not at church.  A potluck lunch and games/swimming will follow.  There will be no livestream service that morning.  Bring lawn chairs\, etc. \n
URL:https://cornerstoneministries.ca/event/church-picnic-4/
LOCATION:Derek & Jenna Friesens house\, Crystal City
CATEGORIES:Worship Service
END:VEVENT
END:VCALENDAR