BEGIN:VCALENDAR
VERSION:2.0
PRODID:-//Cornerstone Ministries - ECPv4.6.22.1//NONSGML v1.0//EN
CALSCALE:GREGORIAN
METHOD:PUBLISH
X-WR-CALNAME:Cornerstone Ministries
X-ORIGINAL-URL:https://cornerstoneministries.ca
X-WR-CALDESC:Events for Cornerstone Ministries
BEGIN:VEVENT
DTSTART;TZID=America/Winnipeg:20231208T190000
DTEND;TZID=America/Winnipeg:20231208T220000
DTSTAMP:20260419T125228
CREATED:20231116T193435Z
LAST-MODIFIED:20231116T193435Z
UID:6406-1702062000-1702072800@cornerstoneministries.ca
SUMMARY:Caregroup
DESCRIPTION:Caregroup reservation \n
URL:https://cornerstoneministries.ca/event/caregroup/
CATEGORIES:Meeting
END:VEVENT
END:VCALENDAR