BEGIN:VCALENDAR
VERSION:2.0
PRODID:-//Cornerstone Ministries - ECPv4.6.22.1//NONSGML v1.0//EN
CALSCALE:GREGORIAN
METHOD:PUBLISH
X-WR-CALNAME:Cornerstone Ministries
X-ORIGINAL-URL:https://cornerstoneministries.ca
X-WR-CALDESC:Events for Cornerstone Ministries
BEGIN:VEVENT
DTSTART;TZID=America/Winnipeg:20221008T140000
DTEND;TZID=America/Winnipeg:20221008T160000
DTSTAMP:20260420T225502
CREATED:20220904T040310Z
LAST-MODIFIED:20221001T160011Z
UID:5595-1665237600-1665244800@cornerstoneministries.ca
SUMMARY:Bridal Shower for Sarah Jacobs
DESCRIPTION:There will be a bridal shower for Sarah Jacobs (Wyatt Harms’ bride-to-be) on Saturday\, October 8 at 2:00 pm here at the church. \n
URL:https://cornerstoneministries.ca/event/bridal-shower/
LOCATION:Cornerstone Ministries\, 131 new hope drive\, Crystal City\, manitoba\, r0k 0n0\, Canada
CATEGORIES:Special Events
END:VEVENT
END:VCALENDAR