BEGIN:VCALENDAR
VERSION:2.0
PRODID:-//Cornerstone Ministries - ECPv4.6.22.1//NONSGML v1.0//EN
CALSCALE:GREGORIAN
METHOD:PUBLISH
X-WR-CALNAME:Cornerstone Ministries
X-ORIGINAL-URL:https://cornerstoneministries.ca
X-WR-CALDESC:Events for Cornerstone Ministries
BEGIN:VEVENT
DTSTART;TZID=America/Winnipeg:20210619T190000
DTEND;TZID=America/Winnipeg:20210619T210000
DTSTAMP:20260426T024650
CREATED:20210508T141126Z
LAST-MODIFIED:20210604T151048Z
UID:2426-1624129200-1624136400@cornerstoneministries.ca
SUMMARY:Drive-By Bridal Shower - Madi DeRoo
DESCRIPTION:A drive-by bridal shower for Madi DeRoo will be held on June 19 @ 7:00pm at the church.  Everyone is welcome to drive by and shower Madi with well wishes and gifts for her upcoming marriage to Andy Krahn.  Madi is registered at myregistry.com. \n
URL:https://cornerstoneministries.ca/event/bridal-shower-madi-deroo/
LOCATION:Cornerstone Ministries\, 131 new hope drive\, Crystal City\, manitoba\, r0k 0n0\, Canada
CATEGORIES:Special Events
END:VEVENT
END:VCALENDAR