BEGIN:VCALENDAR
VERSION:2.0
PRODID:-//Cornerstone Ministries - ECPv4.6.22.1//NONSGML v1.0//EN
CALSCALE:GREGORIAN
METHOD:PUBLISH
X-WR-CALNAME:Cornerstone Ministries
X-ORIGINAL-URL:https://cornerstoneministries.ca
X-WR-CALDESC:Events for Cornerstone Ministries
BEGIN:VEVENT
DTSTART;TZID=America/Winnipeg:20221014T190000
DTEND;TZID=America/Winnipeg:20221014T210000
DTSTAMP:20260421T064128
CREATED:20221001T155330Z
LAST-MODIFIED:20221001T155330Z
UID:5665-1665774000-1665781200@cornerstoneministries.ca
SUMMARY:Bridal Shower for Liberty Baldwin
DESCRIPTION:There will be a bridal shower for Liberty Baldwin (Peter Klassen’s fiancé) on Friday\, October 14 at 7:00 pm  here at the church.  Peter & Liberty are registered on Amazon. \n
URL:https://cornerstoneministries.ca/event/bridal-shower-for-liberty-baldwin/
LOCATION:Cornerstone Ministries\, 131 new hope drive\, Crystal City\, manitoba\, r0k 0n0\, Canada
CATEGORIES:Special Events
END:VEVENT
END:VCALENDAR