BEGIN:VCALENDAR
VERSION:2.0
PRODID:-//Cornerstone Ministries - ECPv4.6.22.1//NONSGML v1.0//EN
CALSCALE:GREGORIAN
METHOD:PUBLISH
X-WR-CALNAME:Cornerstone Ministries
X-ORIGINAL-URL:https://cornerstoneministries.ca
X-WR-CALDESC:Events for Cornerstone Ministries
BEGIN:VEVENT
DTSTART;TZID=America/Winnipeg:20221024T193000
DTEND;TZID=America/Winnipeg:20221024T210000
DTSTAMP:20260423T085917
CREATED:20221008T214358Z
LAST-MODIFIED:20221008T214358Z
UID:5690-1666639800-1666645200@cornerstoneministries.ca
SUMMARY:Baby Shower for Cassandra & Bennett Hein
DESCRIPTION:There will be a baby shower for Cassie Hein and baby Bennett here at the church.  Even if you have given a gift already\, please come and leave a blessing of wisdom or new mom advice. \n
URL:https://cornerstoneministries.ca/event/baby-shower-for-cassandra-bennett-hein/
LOCATION:Cornerstone Ministries\, 131 new hope drive\, Crystal City\, manitoba\, r0k 0n0\, Canada
CATEGORIES:Special Events
END:VEVENT
END:VCALENDAR