BEGIN:VCALENDAR
VERSION:2.0
PRODID:-//Cornerstone Ministries - ECPv4.6.22.1//NONSGML v1.0//EN
CALSCALE:GREGORIAN
METHOD:PUBLISH
X-WR-CALNAME:Cornerstone Ministries
X-ORIGINAL-URL:https://cornerstoneministries.ca
X-WR-CALDESC:Events for Cornerstone Ministries
BEGIN:VEVENT
DTSTART;TZID=America/Winnipeg:20230306T190000
DTEND;TZID=America/Winnipeg:20230306T210000
DTSTAMP:20260420T223806
CREATED:20230305T035644Z
LAST-MODIFIED:20230305T035644Z
UID:6000-1678129200-1678136400@cornerstoneministries.ca
SUMMARY:Annual Meeting
DESCRIPTION:For a copy of the reports and agenda see Jer Pauls or Pastor Jeff.  Josh Pauls has let his name stand to be an elder.  We will have an affirmation vote at the meeting. \n
URL:https://cornerstoneministries.ca/event/annual-meeting-5/
LOCATION:Cornerstone Ministries\, 131 new hope drive\, Crystal City\, manitoba\, r0k 0n0\, Canada
CATEGORIES:Meeting
END:VEVENT
END:VCALENDAR