BEGIN:VCALENDAR
VERSION:2.0
PRODID:-//Cornerstone Ministries - ECPv4.6.22.1//NONSGML v1.0//EN
CALSCALE:GREGORIAN
METHOD:PUBLISH
X-WR-CALNAME:Cornerstone Ministries
X-ORIGINAL-URL:https://cornerstoneministries.ca
X-WR-CALDESC:Events for Cornerstone Ministries
BEGIN:VEVENT
DTSTART;TZID=America/Winnipeg:20220227T190000
DTEND;TZID=America/Winnipeg:20220227T210000
DTSTAMP:20260424T192945
CREATED:20220211T210550Z
LAST-MODIFIED:20220225T163927Z
UID:4250-1645988400-1645995600@cornerstoneministries.ca
SUMMARY:An Evening With Matt Falk!
DESCRIPTION:\n\n\n\nAll ages welcome. Come prepared to laugh and to be encouraged! “A cheerful heart is good medicine!” -Prov 17:22 \n\n\n\n\n
URL:https://cornerstoneministries.ca/event/an-evening-with-matt-falk/
LOCATION:Cornerstone Ministries\, 131 new hope drive\, Crystal City\, manitoba\, r0k 0n0\, Canada
CATEGORIES:Special Events
END:VEVENT
END:VCALENDAR