BEGIN:VCALENDAR
VERSION:2.0
PRODID:-//Cornerstone Ministries - ECPv4.6.22.1//NONSGML v1.0//EN
CALSCALE:GREGORIAN
METHOD:PUBLISH
X-WR-CALNAME:Cornerstone Ministries
X-ORIGINAL-URL:https://cornerstoneministries.ca
X-WR-CALDESC:Events for Cornerstone Ministries
BEGIN:VEVENT
DTSTART;VALUE=DATE:20260326
DTEND;VALUE=DATE:20260403
DTSTAMP:20260425T110813
CREATED:20260107T174526Z
LAST-MODIFIED:20260107T174526Z
UID:8500-1774483200-1775174399@cornerstoneministries.ca
SUMMARY:Sr Youth Missions Trip
DESCRIPTION:WE ARE GOING TO CALGARY OVER SPRING BREAK\, PARTNERING \nWITH YWAM SHEEP RIVER! \nWE WILL BE VOLUNTEERING AT VARIOUS ORGANIZATIONS IN THE OKOTOKS/CALGARY AREA. \nFOR MORE INFORMATION TALK TO \nANDY OR PETER. APPLICATION DEADLINE IS JANUARY 13TH! \n
URL:https://cornerstoneministries.ca/event/sr-youth-missions-trip/
CATEGORIES:SR Youth
END:VEVENT
BEGIN:VEVENT
DTSTART;TZID=America/Winnipeg:20260402T103000
DTEND;TZID=America/Winnipeg:20260402T120000
DTSTAMP:20260425T110813
CREATED:20260324T150729Z
LAST-MODIFIED:20260324T150729Z
UID:8670-1775125800-1775131200@cornerstoneministries.ca
SUMMARY:Mom's Group
DESCRIPTION:
URL:https://cornerstoneministries.ca/event/moms-group-38/
LOCATION:Cornerstone Ministries\, 131 new hope drive\, Crystal City\, manitoba\, r0k 0n0\, Canada
CATEGORIES:Kid's Ministries
END:VEVENT
END:VCALENDAR