BEGIN:VCALENDAR
VERSION:2.0
PRODID:-//Cornerstone Ministries - ECPv4.6.22.1//NONSGML v1.0//EN
CALSCALE:GREGORIAN
METHOD:PUBLISH
X-WR-CALNAME:Cornerstone Ministries
X-ORIGINAL-URL:https://cornerstoneministries.ca
X-WR-CALDESC:Events for Cornerstone Ministries
BEGIN:VEVENT
DTSTART;TZID=America/Winnipeg:20260323T090000
DTEND;TZID=America/Winnipeg:20260323T110000
DTSTAMP:20260424T174045
CREATED:20260127T155352Z
LAST-MODIFIED:20260127T155352Z
UID:8531-1774256400-1774263600@cornerstoneministries.ca
SUMMARY:Sr Men's Coffee & Study
DESCRIPTION:
URL:https://cornerstoneministries.ca/event/sr-mens-coffee-study-6/
CATEGORIES:Mens Ministries
END:VEVENT
BEGIN:VEVENT
DTSTART;TZID=America/Winnipeg:20260323T190000
DTEND;TZID=America/Winnipeg:20260323T210000
DTSTAMP:20260424T174045
CREATED:20260211T142621Z
LAST-MODIFIED:20260211T142621Z
UID:8604-1774292400-1774299600@cornerstoneministries.ca
SUMMARY:Baby Shower for Susi Klassen
DESCRIPTION:
URL:https://cornerstoneministries.ca/event/baby-shower-for-susi-klassen/
LOCATION:Cornerstone Ministries\, 131 new hope drive\, Crystal City\, manitoba\, r0k 0n0\, Canada
CATEGORIES:Special Events
END:VEVENT
END:VCALENDAR