BEGIN:VCALENDAR
VERSION:2.0
PRODID:-//Cornerstone Ministries - ECPv4.6.22.1//NONSGML v1.0//EN
CALSCALE:GREGORIAN
METHOD:PUBLISH
X-WR-CALNAME:Cornerstone Ministries
X-ORIGINAL-URL:https://cornerstoneministries.ca
X-WR-CALDESC:Events for Cornerstone Ministries
BEGIN:VEVENT
DTSTART;TZID=America/Winnipeg:20260322T083000
DTEND;TZID=America/Winnipeg:20260322T120000
DTSTAMP:20260424T154424
CREATED:20250826T140857Z
LAST-MODIFIED:20250826T140857Z
UID:8037-1774168200-1774180800@cornerstoneministries.ca
SUMMARY:Worship Service
DESCRIPTION:
URL:https://cornerstoneministries.ca/event/worship-service-347/
CATEGORIES:Worship Service
END:VEVENT
BEGIN:VEVENT
DTSTART;TZID=America/Winnipeg:20260322T120000
DTEND;TZID=America/Winnipeg:20260322T140000
DTSTAMP:20260424T154424
CREATED:20260227T181813Z
LAST-MODIFIED:20260227T181813Z
UID:8629-1774180800-1774188000@cornerstoneministries.ca
SUMMARY:Sr Youth Missions Trip Meeting
DESCRIPTION:
URL:https://cornerstoneministries.ca/event/sr-youth-missions-trip-meeting-7/
CATEGORIES:SR Youth
END:VEVENT
END:VCALENDAR